BEGIN:VCALENDAR
VERSION:2.0
PRODID:-//Educated Angels - ECPv4.7.3//NONSGML v1.0//EN
CALSCALE:GREGORIAN
METHOD:PUBLISH
X-WR-CALNAME:Educated Angels
X-ORIGINAL-URL:https://educatedangels.org
X-WR-CALDESC:Events for Educated Angels
BEGIN:VEVENT
DTSTART;VALUE=DATE:20200306
DTEND;VALUE=DATE:20200307
DTSTAMP:20260419T170832
CREATED:20190905T114321Z
LAST-MODIFIED:20190905T114321Z
UID:2276-1583452800-1583539199@educatedangels.org
SUMMARY:End of nine weeks/Student Early Release
DESCRIPTION:
URL:https://educatedangels.org/event/end-of-nine-weeks-student-early-release-3/
CATEGORIES:Killeen ISD
END:VEVENT
END:VCALENDAR