BEGIN:VCALENDAR
VERSION:2.0
PRODID:-//Educated Angels - ECPv4.7.3//NONSGML v1.0//EN
CALSCALE:GREGORIAN
METHOD:PUBLISH
X-WR-CALNAME:Educated Angels
X-ORIGINAL-URL:https://educatedangels.org
X-WR-CALDESC:Events for Educated Angels
BEGIN:VEVENT
DTSTART;TZID=UTC-6:20190912T173000
DTEND;TZID=UTC-6:20190912T173000
DTSTAMP:20260422T161549
CREATED:20190802T183048Z
LAST-MODIFIED:20190802T183048Z
UID:2066-1568309400-1568309400@educatedangels.org
SUMMARY:Pre-Service Training: Orientation (Overview of CASA & Blended Training)
DESCRIPTION:
URL:https://educatedangels.org/event/pre-service-training-orientation-overview-of-casa-blended-training/
LOCATION:CASA of Bell and Coryell Counties
CATEGORIES:CASA Bell
END:VEVENT
END:VCALENDAR