BEGIN:VCALENDAR
VERSION:2.0
PRODID:-//Educated Angels - ECPv4.7.3//NONSGML v1.0//EN
CALSCALE:GREGORIAN
METHOD:PUBLISH
X-WR-CALNAME:Educated Angels
X-ORIGINAL-URL:https://educatedangels.org
X-WR-CALDESC:Events for Educated Angels
BEGIN:VEVENT
DTSTART;VALUE=DATE:20191026
DTEND;VALUE=DATE:20191027
DTSTAMP:20260422T193330
CREATED:20190208T223228Z
LAST-MODIFIED:20190208T223228Z
UID:1451-1572048000-1572134399@educatedangels.org
SUMMARY:Releasing The Weight (Domestic Violence)
DESCRIPTION:
URL:https://educatedangels.org/event/releasing-the-weight-domestic-violence/
END:VEVENT
END:VCALENDAR