BEGIN:VCALENDAR
VERSION:2.0
PRODID:-//Educated Angels - ECPv4.7.3//NONSGML v1.0//EN
CALSCALE:GREGORIAN
METHOD:PUBLISH
X-WR-CALNAME:Educated Angels
X-ORIGINAL-URL:https://educatedangels.org
X-WR-CALDESC:Events for Educated Angels
BEGIN:VEVENT
DTSTART;TZID=UTC-6:20190427T100000
DTEND;TZID=UTC-6:20190427T160000
DTSTAMP:20260421T124918
CREATED:20190303T235144Z
LAST-MODIFIED:20190303T235144Z
UID:1746-1556359200-1556380800@educatedangels.org
SUMMARY:Belton Kiwanis Turtle Festival
DESCRIPTION:
URL:https://educatedangels.org/event/belton-kiwanis-turtle-festival/
LOCATION:Yettie Polk Park\, 101 S Davis St\, Belton\, Texas\, 76513
CATEGORIES:Belton Chamber of Commerce,City of Killeen
END:VEVENT
END:VCALENDAR