BEGIN:VCALENDAR
VERSION:2.0
PRODID:-//Educated Angels - ECPv4.7.3//NONSGML v1.0//EN
CALSCALE:GREGORIAN
METHOD:PUBLISH
X-WR-CALNAME:Educated Angels
X-ORIGINAL-URL:https://educatedangels.org
X-WR-CALDESC:Events for Educated Angels
BEGIN:VEVENT
DTSTART;TZID=UTC-6:20191122T113000
DTEND;TZID=UTC-6:20191122T153000
DTSTAMP:20260421T012027
CREATED:20190227T161633Z
LAST-MODIFIED:20190227T161658Z
UID:1730-1574422200-1574436600@educatedangels.org
SUMMARY:Annual Thanksgiving Day Meal
DESCRIPTION:11:30 a.m. – 3:30 p.m. @ Holiday Inn Temple Belton\, 5247 S. General Bruce Dr.\, Temple \nCall 254-778-5511 for Reservations \n
URL:https://educatedangels.org/event/annual-thanksgiving-day-meal/
CATEGORIES:Belton Chamber of Commerce
END:VEVENT
END:VCALENDAR